BEGIN:VCALENDAR
VERSION:2.0
PRODID:-//VictorsFood - Event Espresso Version 3.1.37.18.P//NONSGML v1.0//EN
METHOD:PUBLISH
X-ORIGINAL-URL:https://www.sydneycookingclasses.com.au/book-a-class/class-schedule/?ee=186
X-WR-CALDESC:VictorsFood
X-WR-TIMEZONE:Australia/Sydney
BEGIN:VEVENT
DTSTAMP:20210227T015543
UID:2dca6455b5c64f66ffee18cd383128d5-60399ef8cb9e37.68878502@https://www.sydneycookingclasses.com.au/book-a-class/class-schedule/?ee=186
ORGANIZER:MAILTO:bookings@victorsfood.com.au
DTSTART:20210424T160000
DTEND:20210424T180000
STATUS:CONFIRMED
URL:https://www.sydneycookingclasses.com.au/book-a-class/class-schedule/?ee=186
SUMMARY:Penang Street Food (Online) - VMY80
LOCATION:
END:VEVENT
END:VCALENDAR
